BEGIN:VCALENDAR
VERSION:2.0
PRODID:-//Los Angeles County Public Defender - ECPv6.15.20//NONSGML v1.0//EN
CALSCALE:GREGORIAN
METHOD:PUBLISH
X-ORIGINAL-URL:https://pubdef.lacounty.gov
X-WR-CALDESC:Events for Los Angeles County Public Defender
REFRESH-INTERVAL;VALUE=DURATION:PT1H
X-Robots-Tag:noindex
X-PUBLISHED-TTL:PT1H
BEGIN:VTIMEZONE
TZID:UTC
BEGIN:STANDARD
TZOFFSETFROM:+0000
TZOFFSETTO:+0000
TZNAME:UTC
DTSTART:20230101T000000
END:STANDARD
END:VTIMEZONE
BEGIN:VEVENT
DTSTART;TZID=UTC:20240914T080000
DTEND;TZID=UTC:20240914T160000
DTSTAMP:20260423T034229
CREATED:20240830T224504Z
LAST-MODIFIED:20240924T232533Z
UID:10000186-1726300800-1726329600@pubdef.lacounty.gov
SUMMARY:KJLH Men's Empowerment Summit
DESCRIPTION:Record clearing services at 1000 E. Victoria St\, Carson\, CA \nMen’s Empowerment Summit \nThe 8th Annual Men’s Empowerment Summit\, presented by 102.3 Radio-Free KJLH\, will occur on Saturday\, September 14\, 2024\, at California State University Dominguez Hills in Carson\, CA\, from 8:00 am to 4:00 pm. This event aims to inspire and empower men of color through open discussions and education. Expert panelists and special guests will lead interactive sessions about men’s issues. Join us for a day of growth and empowerment.
URL:https://pubdef.lacounty.gov/event/kjlh-mens-empowerment-summit/
END:VEVENT
END:VCALENDAR